BEGIN:VCALENDAR
VERSION:2.0
PRODID:-//Lok Virsa - ECPv6.15.17.1//NONSGML v1.0//EN
CALSCALE:GREGORIAN
METHOD:PUBLISH
X-WR-CALNAME:Lok Virsa
X-ORIGINAL-URL:https://lokvirsa.org.pk
X-WR-CALDESC:Events for Lok Virsa
REFRESH-INTERVAL;VALUE=DURATION:PT1H
X-Robots-Tag:noindex
X-PUBLISHED-TTL:PT1H
BEGIN:VTIMEZONE
TZID:Asia/Karachi
BEGIN:STANDARD
TZOFFSETFROM:+0500
TZOFFSETTO:+0500
TZNAME:PKT
DTSTART:20190101T000000
END:STANDARD
END:VTIMEZONE
BEGIN:VEVENT
DTSTART;TZID=Asia/Karachi:20200308T100000
DTEND;TZID=Asia/Karachi:20200308T200000
DTSTAMP:20260425T085257
CREATED:20200307T181713Z
LAST-MODIFIED:20200307T181713Z
UID:6529-1583661600-1583697600@lokvirsa.org.pk
SUMMARY:International Women Day Celebrations
DESCRIPTION:
URL:https://lokvirsa.org.pk/event/international-women-day-celebrations/
LOCATION:Lok Virsa\, Islamabad\, Federal\, 44000\, Pakistan
END:VEVENT
END:VCALENDAR